BEGIN:VCALENDAR
VERSION:2.0
PRODID:-//Dansk Puslespilsforening - ECPv6.15.20//NONSGML v1.0//EN
CALSCALE:GREGORIAN
METHOD:PUBLISH
X-ORIGINAL-URL:https://danskpuslespilsforening.dk
X-WR-CALDESC:Begivenheder for Dansk Puslespilsforening
REFRESH-INTERVAL;VALUE=DURATION:PT1H
X-Robots-Tag:noindex
X-PUBLISHED-TTL:PT1H
BEGIN:VTIMEZONE
TZID:Europe/Copenhagen
BEGIN:DAYLIGHT
TZOFFSETFROM:+0100
TZOFFSETTO:+0200
TZNAME:CEST
DTSTART:20250330T010000
END:DAYLIGHT
BEGIN:STANDARD
TZOFFSETFROM:+0200
TZOFFSETTO:+0100
TZNAME:CET
DTSTART:20251026T010000
END:STANDARD
BEGIN:DAYLIGHT
TZOFFSETFROM:+0100
TZOFFSETTO:+0200
TZNAME:CEST
DTSTART:20260329T010000
END:DAYLIGHT
BEGIN:STANDARD
TZOFFSETFROM:+0200
TZOFFSETTO:+0100
TZNAME:CET
DTSTART:20261025T010000
END:STANDARD
BEGIN:DAYLIGHT
TZOFFSETFROM:+0100
TZOFFSETTO:+0200
TZNAME:CEST
DTSTART:20270328T010000
END:DAYLIGHT
BEGIN:STANDARD
TZOFFSETFROM:+0200
TZOFFSETTO:+0100
TZNAME:CET
DTSTART:20271031T010000
END:STANDARD
END:VTIMEZONE
BEGIN:VEVENT
DTSTART;TZID=Europe/Copenhagen:20260321T100000
DTEND;TZID=Europe/Copenhagen:20260321T140000
DTSTAMP:20260421T114644
CREATED:20251013T120743Z
LAST-MODIFIED:20251013T120954Z
UID:1729-1774087200-1774101600@danskpuslespilsforening.dk
SUMMARY:Byt og Byg - Marts
DESCRIPTION:Vi bytter (købe/sælger) vores puslespil indbyrdes og sætter os og hygger med at bygge/lægge puslespil.Det er gratis at deltage.Parkering og indgang fra Hans Bangsvej
URL:https://danskpuslespilsforening.dk/event/byt-og-byg-marts/
LOCATION:Forsamlingshuset Østergade\, Østergade 33\, Middelfart\, Denmark
CATEGORIES:Arrangementer
ATTACH;FMTTYPE=image/jpeg:https://danskpuslespilsforening.dk/wp-content/uploads/2025/10/490705762_10162218007284192_4278898682874356188_n.jpg
END:VEVENT
END:VCALENDAR